BEGIN:VCALENDAR
VERSION:2.0
PRODID:-//Central Susquehanna Valley Board of Realtors - ECPv6.15.20//NONSGML v1.0//EN
CALSCALE:GREGORIAN
METHOD:PUBLISH
X-WR-CALNAME:Central Susquehanna Valley Board of Realtors
X-ORIGINAL-URL:https://csvrealtors.com
X-WR-CALDESC:Events for Central Susquehanna Valley Board of Realtors
REFRESH-INTERVAL;VALUE=DURATION:PT1H
X-Robots-Tag:noindex
X-PUBLISHED-TTL:PT1H
BEGIN:VTIMEZONE
TZID:UTC
BEGIN:STANDARD
TZOFFSETFROM:+0000
TZOFFSETTO:+0000
TZNAME:UTC
DTSTART:20250101T000000
END:STANDARD
END:VTIMEZONE
BEGIN:VEVENT
DTSTART;TZID=UTC:20260418T090000
DTEND;TZID=UTC:20260418T170000
DTSTAMP:20260422T161734
CREATED:20260316T162047Z
LAST-MODIFIED:20260401T145313Z
UID:2383-1776502800-1776531600@csvrealtors.com
SUMMARY:Gift of Life Donor Dash
DESCRIPTION:4th Annual Danville Satellite Donor Dash 5K Run and Walk\n\n\n\n\n\n\n\n\n\nSat April 18\, 2026\nDanville\, PA 17821 US
URL:https://csvrealtors.com/event/gift-of-life-donor-dash/
LOCATION:PA
ATTACH;FMTTYPE=image/png:https://csvrealtors.com/wp-content/uploads/2026/03/ChatGPT-Image-Apr-1-2026-10_51_27-AM.png
END:VEVENT
END:VCALENDAR