BEGIN:VCALENDAR
VERSION:2.0
PRODID:-//Central Susquehanna Valley Board of Realtors - ECPv6.15.20//NONSGML v1.0//EN
CALSCALE:GREGORIAN
METHOD:PUBLISH
X-WR-CALNAME:Central Susquehanna Valley Board of Realtors
X-ORIGINAL-URL:https://csvrealtors.com
X-WR-CALDESC:Events for Central Susquehanna Valley Board of Realtors
REFRESH-INTERVAL;VALUE=DURATION:PT1H
X-Robots-Tag:noindex
X-PUBLISHED-TTL:PT1H
BEGIN:VTIMEZONE
TZID:UTC
BEGIN:STANDARD
TZOFFSETFROM:+0000
TZOFFSETTO:+0000
TZNAME:UTC
DTSTART:20250101T000000
END:STANDARD
END:VTIMEZONE
BEGIN:VEVENT
DTSTART;TZID=UTC:20260514T090000
DTEND;TZID=UTC:20260514T143000
DTSTAMP:20260422T161656
CREATED:20260401T155139Z
LAST-MODIFIED:20260401T161434Z
UID:3049-1778749200-1778769000@csvrealtors.com
SUMMARY:New Member Orientation
DESCRIPTION:NMO –
URL:https://csvrealtors.com/event/new-member-orientation/
LOCATION:CSVBR\, 558 Mill St\, Ste 102\, Danville\, PA\, 17821\, United States
ATTACH;FMTTYPE=image/png:https://csvrealtors.com/wp-content/uploads/2026/04/NMO-Class-Day.png
END:VEVENT
BEGIN:VEVENT
DTSTART;TZID=UTC:20260528T160000
DTEND;TZID=UTC:20260528T180000
DTSTAMP:20260422T161656
CREATED:20260417T134321Z
LAST-MODIFIED:20260417T135148Z
UID:3591-1779984000-1779991200@csvrealtors.com
SUMMARY:Spring Legislative Wine Tasting
DESCRIPTION:
URL:https://csvrealtors.com/event/spring-legislative-wine-tasting/
LOCATION:Union Cellars\, lewisburg pa\, 4760 Furnace Rd\, Lewisburg\, PA\, 17837\, United States
ATTACH;FMTTYPE=image/png:https://csvrealtors.com/wp-content/uploads/2026/04/CSVBR-2026-Spring-Legislative-RPAC-Fundraiser-Flyer.png
END:VEVENT
END:VCALENDAR