BEGIN:VCALENDAR
VERSION:2.0
PRODID:-//Central Susquehanna Valley Board of Realtors - ECPv6.15.20//NONSGML v1.0//EN
CALSCALE:GREGORIAN
METHOD:PUBLISH
X-ORIGINAL-URL:https://csvrealtors.com
X-WR-CALDESC:Events for Central Susquehanna Valley Board of Realtors
REFRESH-INTERVAL;VALUE=DURATION:PT1H
X-Robots-Tag:noindex
X-PUBLISHED-TTL:PT1H
BEGIN:VTIMEZONE
TZID:UTC
BEGIN:STANDARD
TZOFFSETFROM:+0000
TZOFFSETTO:+0000
TZNAME:UTC
DTSTART:20250101T000000
END:STANDARD
END:VTIMEZONE
BEGIN:VEVENT
DTSTART;VALUE=DATE:20260601
DTEND;VALUE=DATE:20260603
DTSTAMP:20260422T174026
CREATED:20260116T143036Z
LAST-MODIFIED:20260401T160700Z
UID:1350-1780272000-1780444799@csvrealtors.com
SUMMARY:PAR Spring Business Meeting/Hill Day\, Harrisburg\, PA
DESCRIPTION:
URL:https://csvrealtors.com/event/par-business-meeting-hill-day-harrisburg-pa/
LOCATION:PA
ATTACH;FMTTYPE=image/jpeg:https://csvrealtors.com/wp-content/uploads/2025/10/images-2.jpg
END:VEVENT
BEGIN:VEVENT
DTSTART;TZID=UTC:20260601T163000
DTEND;TZID=UTC:20260601T190000
DTSTAMP:20260422T174026
CREATED:20260401T142718Z
LAST-MODIFIED:20260401T152720Z
UID:2999-1780331400-1780340400@csvrealtors.com
SUMMARY:2026 RPAC Fundraiser
DESCRIPTION:Head to the “racetrack” with PA RPAC at the Spring Business Meetings. \nThe RPAC Night at the Races event will be held on June 1 at the Hilton Harrisburg. All attendees will enjoy food\, beverages\, music\, “betting” on four separate horse races\, a silent auction and sweepstakes events. \nWhere: Hilton Harrisburg\nWhen: June 1\, 2026\, from 4:45 – 7 p.m. \nSchedule of Events\n4:45 p.m. – Doors open\n5:15 p.m. – Race #1\n5:40 p.m. – Race #2\n6:05 p.m. – Race #3\n6:30 p.m. – Race #4\n6:45 p.m. – Silent auction closes \n 
URL:https://csvrealtors.com/event/2026-rpac-fundraiser/
LOCATION:Hilton Harrisburg\, One N 2nd St\, Harrisburg\, PA\, 17101\, United States
ATTACH;FMTTYPE=image/png:https://csvrealtors.com/wp-content/uploads/2026/04/RPAC-Night-At-Races.png
END:VEVENT
BEGIN:VEVENT
DTSTART;VALUE=DATE:20260613
DTEND;VALUE=DATE:20260619
DTSTAMP:20260422T174026
CREATED:20260401T162048Z
LAST-MODIFIED:20260420T235234Z
UID:3059-1781308800-1781827199@csvrealtors.com
SUMMARY:NAR Realtors Legislative Meetings\, Washington DC
DESCRIPTION:
URL:https://csvrealtors.com/event/nar-realtors-legislative-meetings-washington-dc/
LOCATION:PA
ATTACH;FMTTYPE=image/png:https://csvrealtors.com/wp-content/uploads/2026/04/june-legislative-meeting.png
END:VEVENT
END:VCALENDAR